Workbook

Sheet US mg_dl
A1: BG>500 | D1: BG 400-499 | I1: BG 300-399 | N1: BG 200-299 | S1: BG 100-199 | X1: BG 40-99
A2: Date | B2: AMPS | C2: U | D2: + 1 | E2: + 2 | F2: + 3 | G2: + 4 | H2: + 5 | I2: + 6 | J2: + 7 | K2: + 8 | L2: + 9 | M2: + 10 | N2: +11 | O2: PMPS | P2: U | Q2: + 1 | R2: + 2 | S2: + 3 | T2: + 4 | U2: + 5 | V2: + 6 | W2: + 7 | X2: + 8 | Y2: + 9 | Z2: + 10 | AA2: +11 | AB2: Remarks
A3: ='World mmol_L'!A3 -> 41694 | B3: =ROUND(('World mmol_L'!B3*18),0) -> 486 | C3: ='World mmol_L'!C3 -> 1.5 | D3: =ROUND(('World mmol_L'!D3*18),0) -> 0 | E3: =ROUND(('World mmol_L'!E3*18),0) -> 0 | F3: =ROUND(('World mmol_L'!F3*18),0) -> 0 | G3: =ROUND(('World mmol_L'!G3*18),0) -> 0 | H3: =ROUND(('World mmol_L'!H3*18),0) -> 0 | I3: =ROUND(('World mmol_L'!I3*18),0) -> 0 | J3: =ROUND(('World mmol_L'!J3*18),0) -> 0 | K3: =ROUND(('World mmol_L'!K3*18),0) -> 0 | ... O3: =ROUND(('World mmol_L'!O3*18),0) -> 0 | P3: ='World mmol_L'!P3 -> 0 | Q3: =ROUND(('World mmol_L'!Q3*18),0) -> 0 | R3: =ROUND(('World mmol_L'!R3*18),0) -> 0 | S3: =ROUND(('World mmol_L'!S3*18),0) -> 0 | T3: =ROUND(('World mmol_L'!T3*18),0) -> 0 | U3: =ROUND(('World mmol_L'!U3*18),0) -> 0 | V3: =ROUND(('World mmol_L'!V3*18),0) -> 0 | W3: =ROUND(('World mmol_L'!W3*18),0) -> 0 | X3: =ROUND(('World mmol_L'!X3*18),0) -> 0 | ... AA3: =ROUND(('World mmol_L'!AA3*18),0) -> 0 | AB3: ='World mmol_L'!AB3 -> Day of Diagnosis, Dehydrated so vet gave fluids, her blood test also showed abnormal levels for her kidney and liver enzymes
A4: ='World mmol_L'!A4 -> 02/25/14 | B4: =ROUND(('World mmol_L'!B4*18),0) -> 454 | C4: ='World mmol_L'!C4 -> 1.5 | D4: =ROUND(('World mmol_L'!D4*18),0) -> 394 | E4: =ROUND(('World mmol_L'!E4*18),0) -> 0 | F4: =ROUND(('World mmol_L'!F4*18),0) -> 95 | G4: =ROUND(('World mmol_L'!G4*18),0) -> 70 | H4: =ROUND(('World mmol_L'!H4*18),0) -> 70 | I4: =ROUND(('World mmol_L'!I4*18),0) -> 52 | J4: =ROUND(('World mmol_L'!J4*18),0) -> 47 | K4: =ROUND(('World mmol_L'!K4*18),0) -> 52 | ... O4: =ROUND(('World mmol_L'!O4*18),0) -> 144 | P4: ='World mmol_L'!P4 -> 0 | Q4: =ROUND(('World mmol_L'!Q4*18),0) -> 0 | R4: =ROUND(('World mmol_L'!R4*18),0) -> 0 | S4: =ROUND(('World mmol_L'!S4*18),0) -> 0 | T4: =ROUND(('World mmol_L'!T4*18),0) -> 0 | U4: =ROUND(('World mmol_L'!U4*18),0) -> 0 | V4: =ROUND(('World mmol_L'!V4*18),0) -> 0 | W4: =ROUND(('World mmol_L'!W4*18),0) -> 0 | X4: =ROUND(('World mmol_L'!X4*18),0) -> 0 | ... AA4: =ROUND(('World mmol_L'!AA4*18),0) -> 0 | AB4: ='World mmol_L'!AB4 -> No insulin given for PM
A5: ='World mmol_L'!A5 -> 02/26/14 | B5: =ROUND(('World mmol_L'!B5*18),0) -> 301 | C5: ='World mmol_L'!C5 -> 1 | D5: =ROUND(('World mmol_L'!D5*18),0) -> 176 | E5: =ROUND(('World mmol_L'!E5*18),0) -> 0 | F5: =ROUND(('World mmol_L'!F5*18),0) -> 0 | G5: =ROUND(('World mmol_L'!G5*18),0) -> 0 | H5: =ROUND(('World mmol_L'!H5*18),0) -> 70 | I5: =ROUND(('World mmol_L'!I5*18),0) -> 151 | J5: =ROUND(('World mmol_L'!J5*18),0) -> 0 | K5: =ROUND(('World mmol_L'!K5*18),0) -> 0 | ... O5: =ROUND(('World mmol_L'!O5*18),0) -> 277 | P5: ='World mmol_L'!P5 -> 1 | Q5: =ROUND(('World mmol_L'!Q5*18),0) -> 0 | R5: =ROUND(('World mmol_L'!R5*18),0) -> 0 | S5: =ROUND(('World mmol_L'!S5*18),0) -> 0 | T5: =ROUND(('World mmol_L'!T5*18),0) -> 0 | U5: =ROUND(('World mmol_L'!U5*18),0) -> 0 | V5: =ROUND(('World mmol_L'!V5*18),0) -> 0 | W5: =ROUND(('World mmol_L'!W5*18),0) -> 0 | X5: =ROUND(('World mmol_L'!X5*18),0) -> 0 | ... AA5: =ROUND(('World mmol_L'!AA5*18),0) -> 0 | AB5: ='World mmol_L'!AB5 -> Got her a new meter today OneTouch Ultra Mini
A6: ='World mmol_L'!A6 -> 02/27/14 | B6: =ROUND(('World mmol_L'!B6*18),0) -> 281 | C6: ='World mmol_L'!C6 -> 1 | D6: =ROUND(('World mmol_L'!D6*18),0) -> 0 | E6: =ROUND(('World mmol_L'!E6*18),0) -> 0 | F6: =ROUND(('World mmol_L'!F6*18),0) -> 0 | G6: =ROUND(('World mmol_L'!G6*18),0) -> 0 | H6: =ROUND(('World mmol_L'!H6*18),0) -> 0 | I6: =ROUND(('World mmol_L'!I6*18),0) -> 0 | J6: =ROUND(('World mmol_L'!J6*18),0) -> 0 | K6: =ROUND(('World mmol_L'!K6*18),0) -> 0 | ... O6: =ROUND(('World mmol_L'!O6*18),0) -> 124 | P6: ='World mmol_L'!P6 -> 0 | Q6: =ROUND(('World mmol_L'!Q6*18),0) -> 0 | R6: =ROUND(('World mmol_L'!R6*18),0) -> 0 | S6: =ROUND(('World mmol_L'!S6*18),0) -> 0 | T6: =ROUND(('World mmol_L'!T6*18),0) -> 0 | U6: =ROUND(('World mmol_L'!U6*18),0) -> 0 | V6: =ROUND(('World mmol_L'!V6*18),0) -> 0 | W6: =ROUND(('World mmol_L'!W6*18),0) -> 0 | X6: =ROUND(('World mmol_L'!X6*18),0) -> 0 | ... AA6: =ROUND(('World mmol_L'!AA6*18),0) -> 0 | AB6: ='World mmol_L'!AB6 -> Vet said, maybe she only needs 1 shot of insulin in AM? 2 Urine samples from my floor showed no signs of infection but there was some glucose in the urine. Vet is positive with the results that the kidneys are working to process the urine.
A7: ='World mmol_L'!A7 -> 41698 | B7: =ROUND(('World mmol_L'!B7*18),0) -> 277 | C7: ='World mmol_L'!C7 -> 1 | D7: =ROUND(('World mmol_L'!D7*18),0) -> 0 | E7: =ROUND(('World mmol_L'!E7*18),0) -> 301 | F7: =ROUND(('World mmol_L'!F7*18),0) -> 297 | G7: =ROUND(('World mmol_L'!G7*18),0) -> 0 | H7: =ROUND(('World mmol_L'!H7*18),0) -> 0 | I7: =ROUND(('World mmol_L'!I7*18),0) -> 0 | J7: =ROUND(('World mmol_L'!J7*18),0) -> 0 | K7: =ROUND(('World mmol_L'!K7*18),0) -> 259 | ... O7: =ROUND(('World mmol_L'!O7*18),0) -> 292 | P7: ='World mmol_L'!P7 -> 1 | Q7: =ROUND(('World mmol_L'!Q7*18),0) -> 0 | R7: =ROUND(('World mmol_L'!R7*18),0) -> 0 | S7: =ROUND(('World mmol_L'!S7*18),0) -> 0 | T7: =ROUND(('World mmol_L'!T7*18),0) -> 0 | U7: =ROUND(('World mmol_L'!U7*18),0) -> 0 | V7: =ROUND(('World mmol_L'!V7*18),0) -> 0 | W7: =ROUND(('World mmol_L'!W7*18),0) -> 0 | X7: =ROUND(('World mmol_L'!X7*18),0) -> 0 | ... AA7: =ROUND(('World mmol_L'!AA7*18),0) -> 0 | AB7: ='World mmol_L'!AB7 -> Rough day, Maggie is VERY agitated!
A8: ='World mmol_L'!A8 -> 41699 | B8: =ROUND(('World mmol_L'!B8*18),0) -> 133 | C8: ='World mmol_L'!C8 -> 1 | D8: =ROUND(('World mmol_L'!D8*18),0) -> 0 | E8: =ROUND(('World mmol_L'!E8*18),0) -> 0 | F8: =ROUND(('World mmol_L'!F8*18),0) -> 0 | G8: =ROUND(('World mmol_L'!G8*18),0) -> 0 | H8: =ROUND(('World mmol_L'!H8*18),0) -> 0 | I8: =ROUND(('World mmol_L'!I8*18),0) -> 0 | J8: =ROUND(('World mmol_L'!J8*18),0) -> 0 | K8: =ROUND(('World mmol_L'!K8*18),0) -> 0 | ... O8: =ROUND(('World mmol_L'!O8*18),0) -> 0 | P8: ='World mmol_L'!P8 -> 0 | Q8: =ROUND(('World mmol_L'!Q8*18),0) -> 0 | R8: =ROUND(('World mmol_L'!R8*18),0) -> 0 | S8: =ROUND(('World mmol_L'!S8*18),0) -> 0 | T8: =ROUND(('World mmol_L'!T8*18),0) -> 0 | U8: =ROUND(('World mmol_L'!U8*18),0) -> 0 | V8: =ROUND(('World mmol_L'!V8*18),0) -> 0 | W8: =ROUND(('World mmol_L'!W8*18),0) -> 0 | X8: =ROUND(('World mmol_L'!X8*18),0) -> 0 | ... AA8: =ROUND(('World mmol_L'!AA8*18),0) -> 0 | AB8: ='World mmol_L'!AB8 -> 0
A9: ='World mmol_L'!A9 -> 0 | B9: =ROUND(('World mmol_L'!B9*18),0) -> 0 | C9: ='World mmol_L'!C9 -> 0 | D9: =ROUND(('World mmol_L'!D9*18),0) -> 0 | E9: =ROUND(('World mmol_L'!E9*18),0) -> 0 | F9: =ROUND(('World mmol_L'!F9*18),0) -> 0 | G9: =ROUND(('World mmol_L'!G9*18),0) -> 0 | H9: =ROUND(('World mmol_L'!H9*18),0) -> 0 | I9: =ROUND(('World mmol_L'!I9*18),0) -> 0 | J9: =ROUND(('World mmol_L'!J9*18),0) -> 0 | K9: =ROUND(('World mmol_L'!K9*18),0) -> 0 | ... O9: =ROUND(('World mmol_L'!O9*18),0) -> 0 | P9: ='World mmol_L'!P9 -> 0 | Q9: =ROUND(('World mmol_L'!Q9*18),0) -> 0 | R9: =ROUND(('World mmol_L'!R9*18),0) -> 0 | S9: =ROUND(('World mmol_L'!S9*18),0) -> 0 | T9: =ROUND(('World mmol_L'!T9*18),0) -> 0 | U9: =ROUND(('World mmol_L'!U9*18),0) -> 0 | V9: =ROUND(('World mmol_L'!V9*18),0) -> 0 | W9: =ROUND(('World mmol_L'!W9*18),0) -> 0 | X9: =ROUND(('World mmol_L'!X9*18),0) -> 0 | ... AA9: =ROUND(('World mmol_L'!AA9*18),0) -> 0 | AB9: ='World mmol_L'!AB9 -> 0
A10: ='World mmol_L'!A10 -> 0 | B10: =ROUND(('World mmol_L'!B10*18),0) -> 0 | C10: ='World mmol_L'!C10 -> 0 | D10: =ROUND(('World mmol_L'!D10*18),0) -> 0 | E10: =ROUND(('World mmol_L'!E10*18),0) -> 0 | F10: =ROUND(('World mmol_L'!F10*18),0) -> 0 | G10: =ROUND(('World mmol_L'!G10*18),0) -> 0 | H10: =ROUND(('World mmol_L'!H10*18),0) -> 0 | I10: =ROUND(('World mmol_L'!I10*18),0) -> 0 | J10: =ROUND(('World mmol_L'!J10*18),0) -> 0 | K10: =ROUND(('World mmol_L'!K10*18),0) -> 0 | ... O10: =ROUND(('World mmol_L'!O10*18),0) -> 0 | P10: ='World mmol_L'!P10 -> 0 | Q10: =ROUND(('World mmol_L'!Q10*18),0) -> 0 | R10: =ROUND(('World mmol_L'!R10*18),0) -> 0 | S10: =ROUND(('World mmol_L'!S10*18),0) -> 0 | T10: =ROUND(('World mmol_L'!T10*18),0) -> 0 | U10: =ROUND(('World mmol_L'!U10*18),0) -> 0 | V10: =ROUND(('World mmol_L'!V10*18),0) -> 0 | W10: =ROUND(('World mmol_L'!W10*18),0) -> 0 | X10: =ROUND(('World mmol_L'!X10*18),0) -> 0 | ... AA10: =ROUND(('World mmol_L'!AA10*18),0) -> 0 | AB10: ='World mmol_L'!AB10 -> 0
A11: ='World mmol_L'!A11 -> 0 | B11: =ROUND(('World mmol_L'!B11*18),0) -> 0 | C11: ='World mmol_L'!C11 -> 0 | D11: =ROUND(('World mmol_L'!D11*18),0) -> 0 | E11: =ROUND(('World mmol_L'!E11*18),0) -> 0 | F11: =ROUND(('World mmol_L'!F11*18),0) -> 0 | G11: =ROUND(('World mmol_L'!G11*18),0) -> 0 | H11: =ROUND(('World mmol_L'!H11*18),0) -> 0 | I11: =ROUND(('World mmol_L'!I11*18),0) -> 0 | J11: =ROUND(('World mmol_L'!J11*18),0) -> 0 | K11: =ROUND(('World mmol_L'!K11*18),0) -> 0 | ... O11: =ROUND(('World mmol_L'!O11*18),0) -> 0 | P11: ='World mmol_L'!P11 -> 0 | Q11: =ROUND(('World mmol_L'!Q11*18),0) -> 0 | R11: =ROUND(('World mmol_L'!R11*18),0) -> 0 | S11: =ROUND(('World mmol_L'!S11*18),0) -> 0 | T11: =ROUND(('World mmol_L'!T11*18),0) -> 0 | U11: =ROUND(('World mmol_L'!U11*18),0) -> 0 | V11: =ROUND(('World mmol_L'!V11*18),0) -> 0 | W11: =ROUND(('World mmol_L'!W11*18),0) -> 0 | X11: =ROUND(('World mmol_L'!X11*18),0) -> 0 | ... AA11: =ROUND(('World mmol_L'!AA11*18),0) -> 0 | AB11: ='World mmol_L'!AB11 -> 0
A12: ='World mmol_L'!A12 -> 0 | B12: =ROUND(('World mmol_L'!B12*18),0) -> 0 | C12: ='World mmol_L'!C12 -> 0 | D12: =ROUND(('World mmol_L'!D12*18),0) -> 0 | E12: =ROUND(('World mmol_L'!E12*18),0) -> 0 | F12: =ROUND(('World mmol_L'!F12*18),0) -> 0 | G12: =ROUND(('World mmol_L'!G12*18),0) -> 0 | H12: =ROUND(('World mmol_L'!H12*18),0) -> 0 | I12: =ROUND(('World mmol_L'!I12*18),0) -> 0 | J12: =ROUND(('World mmol_L'!J12*18),0) -> 0 | K12: =ROUND(('World mmol_L'!K12*18),0) -> 0 | ... O12: =ROUND(('World mmol_L'!O12*18),0) -> 0 | P12: ='World mmol_L'!P12 -> 0 | Q12: =ROUND(('World mmol_L'!Q12*18),0) -> 0 | R12: =ROUND(('World mmol_L'!R12*18),0) -> 0 | S12: =ROUND(('World mmol_L'!S12*18),0) -> 0 | T12: =ROUND(('World mmol_L'!T12*18),0) -> 0 | U12: =ROUND(('World mmol_L'!U12*18),0) -> 0 | V12: =ROUND(('World mmol_L'!V12*18),0) -> 0 | W12: =ROUND(('World mmol_L'!W12*18),0) -> 0 | X12: =ROUND(('World mmol_L'!X12*18),0) -> 0 | ... AA12: =ROUND(('World mmol_L'!AA12*18),0) -> 0 | AB12: ='World mmol_L'!AB12 -> 0
A13: ='World mmol_L'!A13 -> 0 | B13: =ROUND(('World mmol_L'!B13*18),0) -> 0 | C13: ='World mmol_L'!C13 -> 0 | D13: =ROUND(('World mmol_L'!D13*18),0) -> 0 | E13: =ROUND(('World mmol_L'!E13*18),0) -> 0 | F13: =ROUND(('World mmol_L'!F13*18),0) -> 0 | G13: =ROUND(('World mmol_L'!G13*18),0) -> 0 | H13: =ROUND(('World mmol_L'!H13*18),0) -> 0 | I13: =ROUND(('World mmol_L'!I13*18),0) -> 0 | J13: =ROUND(('World mmol_L'!J13*18),0) -> 0 | K13: =ROUND(('World mmol_L'!K13*18),0) -> 0 | ... O13: =ROUND(('World mmol_L'!O13*18),0) -> 0 | P13: ='World mmol_L'!P13 -> 0 | Q13: =ROUND(('World mmol_L'!Q13*18),0) -> 0 | R13: =ROUND(('World mmol_L'!R13*18),0) -> 0 | S13: =ROUND(('World mmol_L'!S13*18),0) -> 0 | T13: =ROUND(('World mmol_L'!T13*18),0) -> 0 | U13: =ROUND(('World mmol_L'!U13*18),0) -> 0 | V13: =ROUND(('World mmol_L'!V13*18),0) -> 0 | W13: =ROUND(('World mmol_L'!W13*18),0) -> 0 | X13: =ROUND(('World mmol_L'!X13*18),0) -> 0 | ... AA13: =ROUND(('World mmol_L'!AA13*18),0) -> 0 | AB13: ='World mmol_L'!AB13 -> 0
A14: ='World mmol_L'!A14 -> 0 | B14: =ROUND(('World mmol_L'!B14*18),0) -> 0 | C14: ='World mmol_L'!C14 -> 0 | D14: =ROUND(('World mmol_L'!D14*18),0) -> 0 | E14: =ROUND(('World mmol_L'!E14*18),0) -> 0 | F14: =ROUND(('World mmol_L'!F14*18),0) -> 0 | G14: =ROUND(('World mmol_L'!G14*18),0) -> 0 | H14: =ROUND(('World mmol_L'!H14*18),0) -> 0 | I14: =ROUND(('World mmol_L'!I14*18),0) -> 0 | J14: =ROUND(('World mmol_L'!J14*18),0) -> 0 | K14: =ROUND(('World mmol_L'!K14*18),0) -> 0 | ... O14: =ROUND(('World mmol_L'!O14*18),0) -> 0 | P14: ='World mmol_L'!P14 -> 0 | Q14: =ROUND(('World mmol_L'!Q14*18),0) -> 0 | R14: =ROUND(('World mmol_L'!R14*18),0) -> 0 | S14: =ROUND(('World mmol_L'!S14*18),0) -> 0 | T14: =ROUND(('World mmol_L'!T14*18),0) -> 0 | U14: =ROUND(('World mmol_L'!U14*18),0) -> 0 | V14: =ROUND(('World mmol_L'!V14*18),0) -> 0 | W14: =ROUND(('World mmol_L'!W14*18),0) -> 0 | X14: =ROUND(('World mmol_L'!X14*18),0) -> 0 | ... AA14: =ROUND(('World mmol_L'!AA14*18),0) -> 0 | AB14: ='World mmol_L'!AB14 -> 0
... A201: ='World mmol_L'!A201 -> 0 | B201: =ROUND(('World mmol_L'!B201*18),0) -> 0 | C201: ='World mmol_L'!C201 -> 0 | D201: =ROUND(('World mmol_L'!D201*18),0) -> 0 | E201: =ROUND(('World mmol_L'!E201*18),0) -> 0 | F201: =ROUND(('World mmol_L'!F201*18),0) -> 0 | G201: =ROUND(('World mmol_L'!G201*18),0) -> 0 | H201: =ROUND(('World mmol_L'!H201*18),0) -> 0 | I201: =ROUND(('World mmol_L'!I201*18),0) -> 0 | J201: =ROUND(('World mmol_L'!J201*18),0) -> 0 | K201: =ROUND(('World mmol_L'!K201*18),0) -> 0 | ... O201: =ROUND(('World mmol_L'!O201*18),0) -> 0 | P201: ='World mmol_L'!P201 -> 0 | Q201: =ROUND(('World mmol_L'!Q201*18),0) -> 0 | R201: =ROUND(('World mmol_L'!R201*18),0) -> 0 | S201: =ROUND(('World mmol_L'!S201*18),0) -> 0 | T201: =ROUND(('World mmol_L'!T201*18),0) -> 0 | U201: =ROUND(('World mmol_L'!U201*18),0) -> 0 | V201: =ROUND(('World mmol_L'!V201*18),0) -> 0 | W201: =ROUND(('World mmol_L'!W201*18),0) -> 0 | X201: =ROUND(('World mmol_L'!X201*18),0) -> 0 | ... AA201: =ROUND(('World mmol_L'!AA201*18),0) -> 0 | AB201: ='World mmol_L'!AB201 -> 0
B202: =ROUND(('World mmol_L'!B202*18),0) -> 0 | C202: ='World mmol_L'!C202 -> 0 | D202: =ROUND(('World mmol_L'!D202*18),0) -> 0 | E202: =ROUND(('World mmol_L'!E202*18),0) -> 0 | F202: =ROUND(('World mmol_L'!F202*18),0) -> 0 | G202: =ROUND(('World mmol_L'!G202*18),0) -> 0 | H202: =ROUND(('World mmol_L'!H202*18),0) -> 0 | I202: =ROUND(('World mmol_L'!I202*18),0) -> 0 | J202: =ROUND(('World mmol_L'!J202*18),0) -> 0 | K202: =ROUND(('World mmol_L'!K202*18),0) -> 0 | ... O202: =ROUND(('World mmol_L'!O202*18),0) -> 0 | P202: ='World mmol_L'!P202 -> 0 | Q202: =ROUND(('World mmol_L'!Q202*18),0) -> 0 | R202: =ROUND(('World mmol_L'!R202*18),0) -> 0 | S202: =ROUND(('World mmol_L'!S202*18),0) -> 0 | T202: =ROUND(('World mmol_L'!T202*18),0) -> 0 | U202: =ROUND(('World mmol_L'!U202*18),0) -> 0 | V202: =ROUND(('World mmol_L'!V202*18),0) -> 0 | W202: =ROUND(('World mmol_L'!W202*18),0) -> 0 | X202: =ROUND(('World mmol_L'!X202*18),0) -> 0 | ... AA202: =ROUND(('World mmol_L'!AA202*18),0) -> 0 | AB202: ='World mmol_L'!AB202 -> 0
A203: ='World mmol_L'!A203 -> 0 | B203: =ROUND(('World mmol_L'!B203*18),0) -> 0 | C203: ='World mmol_L'!C203 -> 0 | D203: =ROUND(('World mmol_L'!D203*18),0) -> 0 | E203: =ROUND(('World mmol_L'!E203*18),0) -> 0 | F203: =ROUND(('World mmol_L'!F203*18),0) -> 0 | G203: =ROUND(('World mmol_L'!G203*18),0) -> 0 | H203: =ROUND(('World mmol_L'!H203*18),0) -> 0 | I203: =ROUND(('World mmol_L'!I203*18),0) -> 0 | J203: =ROUND(('World mmol_L'!J203*18),0) -> 0 | K203: =ROUND(('World mmol_L'!K203*18),0) -> 0 | ... O203: =ROUND(('World mmol_L'!O203*18),0) -> 0 | P203: ='World mmol_L'!P203 -> 0 | Q203: =ROUND(('World mmol_L'!Q203*18),0) -> 0 | R203: =ROUND(('World mmol_L'!R203*18),0) -> 0 | S203: =ROUND(('World mmol_L'!S203*18),0) -> 0 | T203: =ROUND(('World mmol_L'!T203*18),0) -> 0 | U203: =ROUND(('World mmol_L'!U203*18),0) -> 0 | V203: =ROUND(('World mmol_L'!V203*18),0) -> 0 | W203: =ROUND(('World mmol_L'!W203*18),0) -> 0 | X203: =ROUND(('World mmol_L'!X203*18),0) -> 0 | ... AA203: =ROUND(('World mmol_L'!AA203*18),0) -> 0 | AB203: ='World mmol_L'!AB203 -> 0
A204: ='World mmol_L'!A204 -> 0 | B204: =ROUND(('World mmol_L'!B204*18),0) -> 0 | C204: ='World mmol_L'!C204 -> 0 | D204: =ROUND(('World mmol_L'!D204*18),0) -> 0 | E204: =ROUND(('World mmol_L'!E204*18),0) -> 0 | F204: =ROUND(('World mmol_L'!F204*18),0) -> 0 | G204: =ROUND(('World mmol_L'!G204*18),0) -> 0 | H204: =ROUND(('World mmol_L'!H204*18),0) -> 0 | I204: =ROUND(('World mmol_L'!I204*18),0) -> 0 | J204: =ROUND(('World mmol_L'!J204*18),0) -> 0 | K204: =ROUND(('World mmol_L'!K204*18),0) -> 0 | ... O204: =ROUND(('World mmol_L'!O204*18),0) -> 0 | P204: ='World mmol_L'!P204 -> 0 | Q204: =ROUND(('World mmol_L'!Q204*18),0) -> 0 | R204: =ROUND(('World mmol_L'!R204*18),0) -> 0 | S204: =ROUND(('World mmol_L'!S204*18),0) -> 0 | T204: =ROUND(('World mmol_L'!T204*18),0) -> 0 | U204: =ROUND(('World mmol_L'!U204*18),0) -> 0 | V204: =ROUND(('World mmol_L'!V204*18),0) -> 0 | W204: =ROUND(('World mmol_L'!W204*18),0) -> 0 | X204: =ROUND(('World mmol_L'!X204*18),0) -> 0 | ... AA204: =ROUND(('World mmol_L'!AA204*18),0) -> 0 | AB204: ='World mmol_L'!AB204 -> 0
A205: ='World mmol_L'!A205 -> 0 | B205: =ROUND(('World mmol_L'!B205*18),0) -> 0 | C205: ='World mmol_L'!C205 -> 0 | D205: =ROUND(('World mmol_L'!D205*18),0) -> 0 | E205: =ROUND(('World mmol_L'!E205*18),0) -> 0 | F205: =ROUND(('World mmol_L'!F205*18),0) -> 0 | G205: =ROUND(('World mmol_L'!G205*18),0) -> 0 | H205: =ROUND(('World mmol_L'!H205*18),0) -> 0 | I205: =ROUND(('World mmol_L'!I205*18),0) -> 0 | J205: =ROUND(('World mmol_L'!J205*18),0) -> 0 | K205: =ROUND(('World mmol_L'!K205*18),0) -> 0 | ... O205: =ROUND(('World mmol_L'!O205*18),0) -> 0 | P205: ='World mmol_L'!P205 -> 0 | Q205: =ROUND(('World mmol_L'!Q205*18),0) -> 0 | R205: =ROUND(('World mmol_L'!R205*18),0) -> 0 | S205: =ROUND(('World mmol_L'!S205*18),0) -> 0 | T205: =ROUND(('World mmol_L'!T205*18),0) -> 0 | U205: =ROUND(('World mmol_L'!U205*18),0) -> 0 | V205: =ROUND(('World mmol_L'!V205*18),0) -> 0 | W205: =ROUND(('World mmol_L'!W205*18),0) -> 0 | X205: =ROUND(('World mmol_L'!X205*18),0) -> 0 | ... AA205: =ROUND(('World mmol_L'!AA205*18),0) -> 0 | AB205: ='World mmol_L'!AB205 -> 0
A206: ='World mmol_L'!A206 -> 0 | B206: =ROUND(('World mmol_L'!B206*18),0) -> 0 | C206: ='World mmol_L'!C206 -> 0 | D206: =ROUND(('World mmol_L'!D206*18),0) -> 0 | E206: =ROUND(('World mmol_L'!E206*18),0) -> 0 | F206: =ROUND(('World mmol_L'!F206*18),0) -> 0 | G206: =ROUND(('World mmol_L'!G206*18),0) -> 0 | H206: =ROUND(('World mmol_L'!H206*18),0) -> 0 | I206: =ROUND(('World mmol_L'!I206*18),0) -> 0 | J206: =ROUND(('World mmol_L'!J206*18),0) -> 0 | K206: =ROUND(('World mmol_L'!K206*18),0) -> 0 | ... O206: =ROUND(('World mmol_L'!O206*18),0) -> 0 | P206: ='World mmol_L'!P206 -> 0 | Q206: =ROUND(('World mmol_L'!Q206*18),0) -> 0 | R206: =ROUND(('World mmol_L'!R206*18),0) -> 0 | S206: =ROUND(('World mmol_L'!S206*18),0) -> 0 | T206: =ROUND(('World mmol_L'!T206*18),0) -> 0 | U206: =ROUND(('World mmol_L'!U206*18),0) -> 0 | V206: =ROUND(('World mmol_L'!V206*18),0) -> 0 | W206: =ROUND(('World mmol_L'!W206*18),0) -> 0 | X206: =ROUND(('World mmol_L'!X206*18),0) -> 0 | ... AA206: =ROUND(('World mmol_L'!AA206*18),0) -> 0 | AB206: ='World mmol_L'!AB206 -> 0
A207: ='World mmol_L'!A207 -> 0 | B207: =ROUND(('World mmol_L'!B207*18),0) -> 0 | C207: ='World mmol_L'!C207 -> 0 | D207: =ROUND(('World mmol_L'!D207*18),0) -> 0 | E207: =ROUND(('World mmol_L'!E207*18),0) -> 0 | F207: =ROUND(('World mmol_L'!F207*18),0) -> 0 | G207: =ROUND(('World mmol_L'!G207*18),0) -> 0 | H207: =ROUND(('World mmol_L'!H207*18),0) -> 0 | I207: =ROUND(('World mmol_L'!I207*18),0) -> 0 | J207: =ROUND(('World mmol_L'!J207*18),0) -> 0 | K207: =ROUND(('World mmol_L'!K207*18),0) -> 0 | ... O207: =ROUND(('World mmol_L'!O207*18),0) -> 0 | P207: ='World mmol_L'!P207 -> 0 | Q207: =ROUND(('World mmol_L'!Q207*18),0) -> 0 | R207: =ROUND(('World mmol_L'!R207*18),0) -> 0 | S207: =ROUND(('World mmol_L'!S207*18),0) -> 0 | T207: =ROUND(('World mmol_L'!T207*18),0) -> 0 | U207: =ROUND(('World mmol_L'!U207*18),0) -> 0 | V207: =ROUND(('World mmol_L'!V207*18),0) -> 0 | W207: =ROUND(('World mmol_L'!W207*18),0) -> 0 | X207: =ROUND(('World mmol_L'!X207*18),0) -> 0 | ... AA207: =ROUND(('World mmol_L'!AA207*18),0) -> 0 | AB207: ='World mmol_L'!AB207 -> 0
A208: ='World mmol_L'!A208 -> 0 | B208: =ROUND(('World mmol_L'!B208*18),0) -> 0 | C208: ='World mmol_L'!C208 -> 0 | D208: =ROUND(('World mmol_L'!D208*18),0) -> 0 | E208: =ROUND(('World mmol_L'!E208*18),0) -> 0 | F208: =ROUND(('World mmol_L'!F208*18),0) -> 0 | G208: =ROUND(('World mmol_L'!G208*18),0) -> 0 | H208: =ROUND(('World mmol_L'!H208*18),0) -> 0 | I208: =ROUND(('World mmol_L'!I208*18),0) -> 0 | J208: =ROUND(('World mmol_L'!J208*18),0) -> 0 | K208: =ROUND(('World mmol_L'!K208*18),0) -> 0 | ... O208: =ROUND(('World mmol_L'!O208*18),0) -> 0 | P208: ='World mmol_L'!P208 -> 0 | Q208: =ROUND(('World mmol_L'!Q208*18),0) -> 0 | R208: =ROUND(('World mmol_L'!R208*18),0) -> 0 | S208: =ROUND(('World mmol_L'!S208*18),0) -> 0 | T208: =ROUND(('World mmol_L'!T208*18),0) -> 0 | U208: =ROUND(('World mmol_L'!U208*18),0) -> 0 | V208: =ROUND(('World mmol_L'!V208*18),0) -> 0 | W208: =ROUND(('World mmol_L'!W208*18),0) -> 0 | X208: =ROUND(('World mmol_L'!X208*18),0) -> 0 | ... AA208: =ROUND(('World mmol_L'!AA208*18),0) -> 0 | AB208: ='World mmol_L'!AB208 -> 0
A209: ='World mmol_L'!A209 -> 0 | B209: =ROUND(('World mmol_L'!B209*18),0) -> 0 | C209: ='World mmol_L'!C209 -> 0 | D209: =ROUND(('World mmol_L'!D209*18),0) -> 0 | E209: =ROUND(('World mmol_L'!E209*18),0) -> 0 | F209: =ROUND(('World mmol_L'!F209*18),0) -> 0 | G209: =ROUND(('World mmol_L'!G209*18),0) -> 0 | H209: =ROUND(('World mmol_L'!H209*18),0) -> 0 | I209: =ROUND(('World mmol_L'!I209*18),0) -> 0 | J209: =ROUND(('World mmol_L'!J209*18),0) -> 0 | K209: =ROUND(('World mmol_L'!K209*18),0) -> 0 | ... O209: =ROUND(('World mmol_L'!O209*18),0) -> 0 | P209: ='World mmol_L'!P209 -> 0 | Q209: =ROUND(('World mmol_L'!Q209*18),0) -> 0 | R209: =ROUND(('World mmol_L'!R209*18),0) -> 0 | S209: =ROUND(('World mmol_L'!S209*18),0) -> 0 | T209: =ROUND(('World mmol_L'!T209*18),0) -> 0 | U209: =ROUND(('World mmol_L'!U209*18),0) -> 0 | V209: =ROUND(('World mmol_L'!V209*18),0) -> 0 | W209: =ROUND(('World mmol_L'!W209*18),0) -> 0 | X209: =ROUND(('World mmol_L'!X209*18),0) -> 0 | ... AA209: =ROUND(('World mmol_L'!AA209*18),0) -> 0 | AB209: ='World mmol_L'!AB209 -> 0
A210: ='World mmol_L'!A210 -> 0 | B210: =ROUND(('World mmol_L'!B210*18),0) -> 0 | C210: ='World mmol_L'!C210 -> 0 | D210: =ROUND(('World mmol_L'!D210*18),0) -> 0 | E210: =ROUND(('World mmol_L'!E210*18),0) -> 0 | F210: =ROUND(('World mmol_L'!F210*18),0) -> 0 | G210: =ROUND(('World mmol_L'!G210*18),0) -> 0 | H210: =ROUND(('World mmol_L'!H210*18),0) -> 0 | I210: =ROUND(('World mmol_L'!I210*18),0) -> 0 | J210: =ROUND(('World mmol_L'!J210*18),0) -> 0 | K210: =ROUND(('World mmol_L'!K210*18),0) -> 0 | ... O210: =ROUND(('World mmol_L'!O210*18),0) -> 0 | P210: ='World mmol_L'!P210 -> 0 | Q210: =ROUND(('World mmol_L'!Q210*18),0) -> 0 | R210: =ROUND(('World mmol_L'!R210*18),0) -> 0 | S210: =ROUND(('World mmol_L'!S210*18),0) -> 0 | T210: =ROUND(('World mmol_L'!T210*18),0) -> 0 | U210: =ROUND(('World mmol_L'!U210*18),0) -> 0 | V210: =ROUND(('World mmol_L'!V210*18),0) -> 0 | W210: =ROUND(('World mmol_L'!W210*18),0) -> 0 | X210: =ROUND(('World mmol_L'!X210*18),0) -> 0 | ... AA210: =ROUND(('World mmol_L'!AA210*18),0) -> 0 | AB210: ='World mmol_L'!AB210 -> 0
A211: ='World mmol_L'!A211 -> 0 | B211: =ROUND(('World mmol_L'!B211*18),0) -> 0 | C211: ='World mmol_L'!C211 -> 0 | D211: =ROUND(('World mmol_L'!D211*18),0) -> 0 | E211: =ROUND(('World mmol_L'!E211*18),0) -> 0 | F211: =ROUND(('World mmol_L'!F211*18),0) -> 0 | G211: =ROUND(('World mmol_L'!G211*18),0) -> 0 | H211: =ROUND(('World mmol_L'!H211*18),0) -> 0 | I211: =ROUND(('World mmol_L'!I211*18),0) -> 0 | J211: =ROUND(('World mmol_L'!J211*18),0) -> 0 | K211: =ROUND(('World mmol_L'!K211*18),0) -> 0 | ... O211: =ROUND(('World mmol_L'!O211*18),0) -> 0 | P211: ='World mmol_L'!P211 -> 0 | Q211: =ROUND(('World mmol_L'!Q211*18),0) -> 0 | R211: =ROUND(('World mmol_L'!R211*18),0) -> 0 | S211: =ROUND(('World mmol_L'!S211*18),0) -> 0 | T211: =ROUND(('World mmol_L'!T211*18),0) -> 0 | U211: =ROUND(('World mmol_L'!U211*18),0) -> 0 | V211: =ROUND(('World mmol_L'!V211*18),0) -> 0 | W211: =ROUND(('World mmol_L'!W211*18),0) -> 0 | X211: =ROUND(('World mmol_L'!X211*18),0) -> 0 | ... AA211: =ROUND(('World mmol_L'!AA211*18),0) -> 0 | AB211: ='World mmol_L'!AB211 -> 0
A212: ='World mmol_L'!A212 -> 0 | B212: =ROUND(('World mmol_L'!B212*18),0) -> 0 | C212: ='World mmol_L'!C212 -> 0 | D212: =ROUND(('World mmol_L'!D212*18),0) -> 0 | E212: =ROUND(('World mmol_L'!E212*18),0) -> 0 | F212: =ROUND(('World mmol_L'!F212*18),0) -> 0 | G212: =ROUND(('World mmol_L'!G212*18),0) -> 0 | H212: =ROUND(('World mmol_L'!H212*18),0) -> 0 | I212: =ROUND(('World mmol_L'!I212*18),0) -> 0 | J212: =ROUND(('World mmol_L'!J212*18),0) -> 0 | K212: =ROUND(('World mmol_L'!K212*18),0) -> 0 | ... O212: =ROUND(('World mmol_L'!O212*18),0) -> 0 | P212: ='World mmol_L'!P212 -> 0 | Q212: =ROUND(('World mmol_L'!Q212*18),0) -> 0 | R212: =ROUND(('World mmol_L'!R212*18),0) -> 0 | S212: =ROUND(('World mmol_L'!S212*18),0) -> 0 | T212: =ROUND(('World mmol_L'!T212*18),0) -> 0 | U212: =ROUND(('World mmol_L'!U212*18),0) -> 0 | V212: =ROUND(('World mmol_L'!V212*18),0) -> 0 | W212: =ROUND(('World mmol_L'!W212*18),0) -> 0 | X212: =ROUND(('World mmol_L'!X212*18),0) -> 0 | ... AA212: =ROUND(('World mmol_L'!AA212*18),0) -> 0 | AB212: ='World mmol_L'!AB212 -> 0
A213: ='World mmol_L'!A213 -> 0 | B213: =ROUND(('World mmol_L'!B213*18),0) -> 0 | C213: ='World mmol_L'!C213 -> 0 | D213: =ROUND(('World mmol_L'!D213*18),0) -> 0 | E213: =ROUND(('World mmol_L'!E213*18),0) -> 0 | F213: =ROUND(('World mmol_L'!F213*18),0) -> 0 | G213: =ROUND(('World mmol_L'!G213*18),0) -> 0 | H213: =ROUND(('World mmol_L'!H213*18),0) -> 0 | I213: =ROUND(('World mmol_L'!I213*18),0) -> 0 | J213: =ROUND(('World mmol_L'!J213*18),0) -> 0 | K213: =ROUND(('World mmol_L'!K213*18),0) -> 0 | ... O213: =ROUND(('World mmol_L'!O213*18),0) -> 0 | P213: ='World mmol_L'!P213 -> 0 | Q213: =ROUND(('World mmol_L'!Q213*18),0) -> 0 | R213: =ROUND(('World mmol_L'!R213*18),0) -> 0 | S213: =ROUND(('World mmol_L'!S213*18),0) -> 0 | T213: =ROUND(('World mmol_L'!T213*18),0) -> 0 | U213: =ROUND(('World mmol_L'!U213*18),0) -> 0 | V213: =ROUND(('World mmol_L'!V213*18),0) -> 0 | W213: =ROUND(('World mmol_L'!W213*18),0) -> 0 | X213: =ROUND(('World mmol_L'!X213*18),0) -> 0 | ... AA213: =ROUND(('World mmol_L'!AA213*18),0) -> 0 | AB213: ='World mmol_L'!AB213 -> 0
A214: ='World mmol_L'!A214 -> 0 | B214: =ROUND(('World mmol_L'!B214*18),0) -> 0 | C214: ='World mmol_L'!C214 -> 0 | D214: =ROUND(('World mmol_L'!D214*18),0) -> 0 | E214: =ROUND(('World mmol_L'!E214*18),0) -> 0 | F214: =ROUND(('World mmol_L'!F214*18),0) -> 0 | G214: =ROUND(('World mmol_L'!G214*18),0) -> 0 | H214: =ROUND(('World mmol_L'!H214*18),0) -> 0 | I214: =ROUND(('World mmol_L'!I214*18),0) -> 0 | J214: =ROUND(('World mmol_L'!J214*18),0) -> 0 | K214: =ROUND(('World mmol_L'!K214*18),0) -> 0 | ... O214: =ROUND(('World mmol_L'!O214*18),0) -> 0 | P214: ='World mmol_L'!P214 -> 0 | Q214: =ROUND(('World mmol_L'!Q214*18),0) -> 0 | R214: =ROUND(('World mmol_L'!R214*18),0) -> 0 | S214: =ROUND(('World mmol_L'!S214*18),0) -> 0 | T214: =ROUND(('World mmol_L'!T214*18),0) -> 0 | U214: =ROUND(('World mmol_L'!U214*18),0) -> 0 | V214: =ROUND(('World mmol_L'!V214*18),0) -> 0 | W214: =ROUND(('World mmol_L'!W214*18),0) -> 0 | X214: =ROUND(('World mmol_L'!X214*18),0) -> 0 | ... AA214: =ROUND(('World mmol_L'!AA214*18),0) -> 0 | AB214: ='World mmol_L'!AB214 -> 0
... A364: ='World mmol_L'!A364 -> 0 | B364: =ROUND(('World mmol_L'!B364*18),0) -> 0 | C364: ='World mmol_L'!C364 -> 0 | D364: =ROUND(('World mmol_L'!D364*18),0) -> 0 | E364: =ROUND(('World mmol_L'!E364*18),0) -> 0 | F364: =ROUND(('World mmol_L'!F364*18),0) -> 0 | G364: =ROUND(('World mmol_L'!G364*18),0) -> 0 | H364: =ROUND(('World mmol_L'!H364*18),0) -> 0 | I364: =ROUND(('World mmol_L'!I364*18),0) -> 0 | J364: =ROUND(('World mmol_L'!J364*18),0) -> 0 | K364: =ROUND(('World mmol_L'!K364*18),0) -> 0 | ... O364: =ROUND(('World mmol_L'!O364*18),0) -> 0 | P364: ='World mmol_L'!P364 -> 0 | Q364: =ROUND(('World mmol_L'!Q364*18),0) -> 0 | R364: =ROUND(('World mmol_L'!R364*18),0) -> 0 | S364: =ROUND(('World mmol_L'!S364*18),0) -> 0 | T364: =ROUND(('World mmol_L'!T364*18),0) -> 0 | U364: =ROUND(('World mmol_L'!U364*18),0) -> 0 | V364: =ROUND(('World mmol_L'!V364*18),0) -> 0 | W364: =ROUND(('World mmol_L'!W364*18),0) -> 0 | X364: =ROUND(('World mmol_L'!X364*18),0) -> 0 | ... AA364: =ROUND(('World mmol_L'!AA364*18),0) -> 0 | AB364: ='World mmol_L'!AB364 -> 0

Sheet World mmol_L
A1: BG>27.6 | D1: BG 22.2-27.6 | I1: BG 16.7-22.1 | N1: BG 11.2-16.6 | S1: BG 5.6-11.1 | X1: BG 1-5.5
A2: Date | B2: AMPS | C2: U | D2: + 1 | E2: + 2 | F2: + 3 | G2: + 4 | H2: + 5 | I2: + 6 | J2: + 7 | K2: + 8 | L2: + 9 | M2: + 10 | N2: +11 | O2: PMPS | P2: U | Q2: + 1 | R2: + 2 | S2: + 3 | T2: + 4 | U2: + 5 | V2: + 6 | W2: + 7 | X2: + 8 | Y2: + 9 | Z2: + 10 | AA2: +11 | AB2: Remarks
A3: 41694 | B3: 27 | C3: 1.5 | AB3: Day of Diagnosis, Dehydrated so vet gave fluids, her blood test also showed abnormal levels for her kidney and liver enzymes
A4: 02/25/14 | B4: 25.2 | C4: 1.5 | D4: 21.9 | F4: 5.3 | G4: 3.9 | H4: 3.9 | I4: 2.9 | J4: 2.6 | K4: 2.9 | L4: 3.1 | M4: 3.8 | N4: 6.9 | O4: 8 | P4: 0 | AB4: No insulin given for PM
A5: 02/26/14 | B5: 16.7 | C5: 1 | D5: 9.8 | H5: 3.9 | I5: 8.4 | O5: 15.4 | P5: 1 | AB5: Got her a new meter today OneTouch Ultra Mini
A6: 02/27/14 | B6: 15.6 | C6: 1 | N6: 4.4 | O6: 6.9 | P6: 0 | AB6: Vet said, maybe she only needs 1 shot of insulin in AM? 2 Urine samples from my floor showed no signs of infection but there was some glucose in the urine. Vet is positive with the results that the kidneys are working to process the urine.
A7: 41698 | B7: 15.4 | C7: 1 | E7: 16.7 | F7: 16.5 | K7: 14.4 | O7: 16.2 | P7: 1 | AB7: Rough day, Maggie is VERY agitated!
A8: 41699 | B8: 7.4 | C8: 1
